BEGIN:VCALENDAR
VERSION:2.0
PRODID:-//ChamberMaster//Event Calendar 2.0//EN
METHOD:PUBLISH
X-PUBLISHED-TTL:P1H
REFRESH-INTERVAL:P1H
CALSCALE:GREGORIAN
BEGIN:VTIMEZONE
TZID:America/Chicago
BEGIN:DAYLIGHT
RRULE:FREQ=YEARLY;BYMONTH=3;BYDAY=2SU
DTSTART:20070101T000000
TZOFFSETFROM:-0600
TZOFFSETTO:-0500
TZNAME:Central Daylight Time
END:DAYLIGHT
BEGIN:STANDARD
RRULE:FREQ=YEARLY;BYMONTH=11;BYDAY=1SU
DTSTART:20070101T000000
TZOFFSETFROM:-0500
TZOFFSETTO:-0600
TZNAME:Central Standard Time
END:STANDARD
END:VTIMEZONE
BEGIN:VEVENT
DTSTART;TZID=America/Chicago:20260414T090000
DTEND;TZID=America/Chicago:20260414T110000
X-MICROSOFT-CDO-ALLDAYEVENT:FALSE
SUMMARY:Texas Freight Mobility Plan (TFMP) Stakeholder Workshop
DESCRIPTION:The PBPA encourages you to participate in the stakeholder workshop hosted by the Texas Department of Transportation (TxDOT)\, focused on the Texas Freight Mobility Plan (TFMP). The TFMP is TxDOT's statewide plan for identifying freight needs and guiding investment decisions to keep goods moving efficiently across Texas. Updated every four years\, the plan plays a critical role in shaping how freight priorities are addressed across all modes from highways and rail to ports and logistics hubs. As part of the 2027 update process\, TxDOT is seeking input from industry and public-sector partners through a series of focused stakeholder workshops. These sessions are designed to gather real-world perspectives\, discuss key challenges and emerging trends\, and help inform future freight priorities across the state. This is a valuable opportunity for PBPA members to ensure the unique needs and insights of the Permian Basin are represented. Your participation will directly contribute to strategies that enhance reliability\, efficiency\, and competitiveness across Texas's freight system.Register
X-ALT-DESC;FMTTYPE=text/html:<!DOCTYPE html><html><head><title></title></head><body aria-disabled="false" spellcheck="false"><p>The PBPA encourages you to participate in the stakeholder workshop hosted by the Texas Department of Transportation (TxDOT)\, focused on the Texas Freight Mobility Plan (TFMP).&nbsp\;</p><p>The TFMP is TxDOT&rsquo\;s statewide plan for identifying freight needs and guiding investment decisions to keep goods moving efficiently across Texas. Updated every four years\, the plan plays a critical role in shaping how freight priorities are addressed across all modes&mdash\;from highways and rail to ports and logistics hubs.&nbsp\;</p><p>As part of the 2027 update process\, TxDOT is seeking input from industry and public-sector partners through a series of focused stakeholder workshops. These sessions are designed to gather real-world perspectives\, discuss key challenges and emerging trends\, and help inform future freight priorities across the state.&nbsp\;</p><p>This is a valuable opportunity for PBPA members to ensure the unique needs and insights of the Permian Basin are represented. Your participation will directly contribute to strategies that enhance reliability\, efficiency\, and competitiveness across Texas&rsquo\;s freight system.</p><p><a fr-original-style="" href="https://forms.office.com/Pages/ResponsePage.aspx?id=VUIjPQ_iBUKIpZZYpAKZm_HxPnWRot9Asv2dSWngVGVUODg3M1cwRkM4OU82TVQ0NlBXTkhCOENGSi4u" rel="noopener noreferrer" style="user-select: auto\;" target="_blank"><strong fr-original-style="" style="font-weight: 700\;"><u>Register</u></strong></a></p></body></html>
LOCATION:N 1310 FM 1788 Midland TX 79707
UID:e.3844.1443018
SEQUENCE:3
DTSTAMP:20260421T144353Z
URL:https://business.pbpa.info/events/Details/texas-freight-mobility-plan-tfmp-stakeholder-workshop-1709126?sourceTypeId=Hub
END:VEVENT
END:VCALENDAR
